BEGIN:VCALENDAR
VERSION:2.0
PRODID:icalendar-ruby
CALSCALE:GREGORIAN
METHOD:PUBLISH
BEGIN:VEVENT
DTSTAMP:20260423T135844Z
UID:161-1342764@faithchurch.life
DTSTART:20260425T000000Z
DTEND:20260425T010000Z
CLASS:PUBLIC
CREATED:20260419T112303
DESCRIPTION:Come hang out with us at our Members Meet-Up! This is your chan
 ce to connect with the community\, meet new people\, and enjoy a relaxed\,
  welcoming vibe. We’ll chat\, laugh\, and just spend quality time togeth
 er.
LAST-MODIFIED:20260419T112303
LOCATION:Faith Church | 4619 White Plains Rd. Bronx NY 10470
SUMMARY:Members Meetup
URL;VALUE=URI:https://faithchurch.life/events/members-meetup/2026-04-24
ATTACH;FILENAME=MEMBERSHIP-CLASS.png;FMTTYPE=image/png:https://dq5pwpg1q8ru
 0.cloudfront.net/2026/04/19/15/23/03/b49bb7e3-e9ec-47e1-838e-4483394a3724/
 MEMBERSHIP-CLASS.png
END:VEVENT
END:VCALENDAR
